0.5
0.0
0.0
-0.5
272000.25
7019999.75
