0.5
0.0
0.0
-0.5
410000.25
6935999.75
