0.5
0.0
0.0
-0.5
404000.25
6923999.75
