0.5
0.0
0.0
-0.5
242000.25
6935999.75
