0.5
0.0
0.0
-0.5
464000.25
6845999.75
