0.5
0.0
0.0
-0.5
476000.25
6773999.75
