0.5
0.0
0.0
-0.5
308000.25
6809999.75
