0.5
0.0
0.0
-0.5
320000.25
6791999.75
