0.5
0.0
0.0
-0.5
218000.25
6857999.75
