0.5
0.0
0.0
-0.5
242000.25
6803999.75
