0.5
0.0
0.0
-0.5
554000.25
6743999.75
