0.5
0.0
0.0
-0.5
446000.25
6743999.75
