0.5
0.0
0.0
-0.5
488000.25
6671999.75
