0.5
0.0
0.0
-0.5
428000.25
6701999.75
