0.5
0.0
0.0
-0.5
182000.25
6713999.75
