0.5
0.0
0.0
-0.5
170000.25
6695999.75
