0.5
0.0
0.0
-0.5
188000.25
6677999.75
