0.5
0.0
0.0
-0.5
110000.25
6707999.75
