0.5
0.0
0.0
-0.5
92000.25
6707999.75
