0.5
0.0
0.0
-0.5
344000.25
6641999.75
