0.5
0.0
0.0
-0.5
242000.25
6629999.75
