0.5
0.0
0.0
-0.5
248000.25
6611999.75
