0.5
0.0
0.0
-0.5
146000.25
6635999.75
