0.5
0.0
0.0
-0.5
158000.25
6611999.75
