0.5
0.0
0.0
-0.5
530000.25
7649999.75
