0.5
0.0
0.0
-0.5
482000.25
7709999.75
