0.5
0.0
0.0
-0.5
488000.25
7655999.75
