0.5
0.0
0.0
-0.5
608000.25
7535999.75
