0.5
0.0
0.0
-0.5
542000.25
7619999.75
