0.5
0.0
0.0
-0.5
512000.25
7613999.75
