0.5
0.0
0.0
-0.5
434000.25
7571999.75
