0.5
0.0
0.0
-0.5
374000.25
7589999.75
