0.5
0.0
0.0
-0.5
452000.25
7439999.75
