0.5
0.0
0.0
-0.5
536000.25
7361999.75
