0.5
0.0
0.0
-0.5
350000.25
7343999.75
