0.5
0.0
0.0
-0.5
638000.25
7307999.75
