0.5
0.0
0.0
-0.5
578000.25
7289999.75
