0.5
0.0
0.0
-0.5
416000.25
7265999.75
