0.5
0.0
0.0
-0.5
560000.25
7187999.75
