0.5
0.0
0.0
-0.5
536000.25
7193999.75
