0.5
0.0
0.0
-0.5
434000.25
7229999.75
