0.5
0.0
0.0
-0.5
380000.25
7151999.75
