0.5
0.0
0.0
-0.5
614000.25
7097999.75
