0.5
0.0
0.0
-0.5
548000.25
7121999.75
