0.5
0.0
0.0
-0.5
512000.25
7145999.75
