0.5
0.0
0.0
-0.5
566000.25
7055999.75
