0.5
0.0
0.0
-0.5
530000.25
7055999.75
