0.5
0.0
0.0
-0.5
386000.25
7061999.75
