0.5
0.0
0.0
-0.5
314000.25
7073999.75
