0.5
0.0
0.0
-0.5
722000.25
7013999.75
